BEGIN:VCALENDAR
VERSION:2.0
CALSCALE:GREGORIAN
PRODID:adamgibbons/ics
METHOD:PUBLISH
X-PUBLISHED-TTL:PT1H
BEGIN:VEVENT
UID:54@agenda.ebullition.org
SUMMARY:Rassemblement des Glières - Forum des résistances
DTSTAMP:20260423T230100Z
DTSTART:20260515T180000Z
DTEND:20260517T170000Z
DESCRIPTION:CRHA (Citoyen.ne [http://Citoyen.ne].s Résistant.e.s d’Hier et 
	d’Aujourd’hui)\nest une association loi 1901 née de rassemblements citoyen
	s aux Glières\n(Haute-Savoie) en 2007 et 2008\, qui se sont organisés spon
	tanément pour\nprotester contre la récupération du lieu et de son histoire
	 par Nicolas Sarkozy\,\nalors candidat aux élections présidentielles\, pui
	s Président.\n\nDepuis\, CRHA organise tous les printemps deux journées de
	 témoignages\, de\nréflexions et d’échanges autour des Résistances d’aujou
	rd’hui\, en écho aux\nRésistances d’hier\, à Thorens-Glières et au Plateau
	 des Glières\, haut lieu de la\nRésistance.\n\n\nLE RASSEMBLEMENT EN QUELQ
	UES MOTS :\n\nLe vendredi soir\,au village de Thorens-Glières\, l’ouvertur
	e se fait pas un\nspectacle vivant.\n\nLe samedi\,toujours au village (sal
	le Tom Morel \, cinéma Le Parnal\, MJC\,\nchapiteaux) \, ce sont des confé
	rences\, des films\, des expositions\, une\ncinquantaine de collectifs etu
	ne librairie qui composent le Village des\nRésistances d’Aujourd’hui. Un e
	space enfants\, des boissons et des bons petits\nplats sont prévus…\n\nLe 
	dimanche matin\, sur le plateau des Glières\, celles et ceux qui luttent\n
	aujourd’hui partagent la tribune pour témoigner de leurs engagements\,acco
	mpagnés\ndes paroles (lues depuis quelques années) des Résistant.e.s d’hie
	r.\n\nNous avons ainsi reçu au cours des ans des ouvrièr(e)s\, syndicalist
	es\,\nmilitant.e.s écologistes\, lanceurs et lanceuses d’alerte\, paysan.n
	e\n[http://paysan.ne].s en lutte et défenseur.e.s des droits des humains v
	enu.e.s\nde toute la France mais aussi d’Italie\, du Mali\, de Tunisie\, d
	e Grèce\, de\nPalestine…\n\nLes derniers/ dernières résistant.e.s de la se
	conde guerre mondiale (Walter\nBassan\, Charles Palan\, Leon Landini\, Noë
	lle Vincensini \, Annette Beaumanoir.…)\,\nnous avaient fait l’honneur de 
	leur présence.\n\nLe rassemblement des Glières se tient dans le centre du 
	village de\nThorens-Glières\, commune de Fillière 74570.\nLe village se si
	tue au pied du plateau des Glières à une vingtaine de kilomètres\nau nord 
	d’Annecy et à une quarantaine de Genève.\n\nSeules les « PAROLES de RÉSIST
	ANCES » se déroulent le DIMANCHE sur le plateau\ndes Glières.\nLes autres 
	temps des rencontres se déroulent au VILLAGE de Thorens-Glières.\n\nToutes
	 les informations : https://www.citoyens-resistants.fr/\n[https://www.cito
	yens-resistants.fr/]
URL:https://agenda.ebullition.org/event/forum-des-resistances
LOCATION:Thorens-Glières - Salle Tom Morel
STATUS:CONFIRMED
CATEGORIES:Culture,Militantisme,Musique,Forum,Résistance,Rassemblement,Renc
	ontre,débat
X-ALT-DESC;FMTTYPE=text/html:<p>CRHA (<a href="http://Citoyen.ne" target="_
	blank">Citoyen.ne</a>.s Résistant.e.s d’Hier et d’Aujourd’hui) est une ass
	ociation loi 1901 née de rassemblements citoyens aux Glières (Haute-Savoie
	) en 2007 et 2008, qui se sont organisés spontanément pour protester contr
	e la récupération du lieu et de son histoire par Nicolas Sarkozy, alors ca
	ndidat aux élections présidentielles, puis Président.</p><p>Depuis, CRHA o
	rganise tous les printemps deux journées de témoignages, de réflexions et 
	d’échanges autour des Résistances d’aujourd’hui, en écho aux Résistances d
	’hier, à Thorens-Glières et au Plateau des Glières, haut lieu de la Résist
	ance.</p><h3>Le rassemblement en quelques mots :</h3><p><strong>Le vendred
	i soir,</strong>au village de Thorens-Glières, l’ouverture se fait pas un 
	<strong>spectacle vivant</strong>.</p><p><strong>Le samedi,</strong>toujou
	rs au village (salle Tom Morel , cinéma Le Parnal, MJC, chapiteaux) , ce s
	ont <strong>des conférences, des films, des expositions, une cinquantaine 
	de collectifs etune librairie qui composent le Village des Résistances d’A
	ujourd’hui. </strong>Un espace enfants, des boissons et des bons petits pl
	ats sont prévus…</p><p><strong>Le dimanche matin, sur le plateau des Glièr
	es, celles et ceux qui luttent aujourd’hui partagent la tribune pour témoi
	gner de leurs engagements,</strong>accompagnés des paroles (lues depuis qu
	elques années) des Résistant.e.s d’hier.</p><p>Nous avons ainsi reçu au co
	urs des ans des ouvrièr(e)s, syndicalistes, militant.e.s écologistes, lanc
	eurs et lanceuses d’alerte, <a href="http://paysan.ne" target="_blank">pay
	san.ne</a>.s en lutte et défenseur.e.s des droits des humains venu.e.s de 
	toute la France mais aussi d’Italie, du Mali, de Tunisie, de Grèce, de Pal
	estine…</p><p><strong>Les derniers/ dernières résistant.e.s de la seconde 
	guerre mondiale (Walter Bassan, Charles Palan, Leon Landini, Noëlle Vincen
	sini&nbsp;, Annette Beaumanoir.…), nous avaient fait l’honneur de leur pré
	sence.</strong></p><p>Le rassemblement des Glières se tient dans le centre
	 du village de Thorens-Glières, commune de Fillière 74570.<br>Le village s
	e situe au pied du plateau des Glières à une vingtaine de kilomètres au no
	rd d’Annecy et à une quarantaine de Genève.</p><p>Seules les «&nbsp;PAROLE
	S de RÉSISTANCES&nbsp;» se déroulent le DIMANCHE sur le plateau des Glière
	s.<br>Les autres temps des rencontres se déroulent au VILLAGE de Thorens-G
	lières.</p><p>Toutes les informations : <a href="https://www.citoyens-resi
	stants.fr/" target="_blank">https://www.citoyens-resistants.fr/</a></p>
BEGIN:VALARM
ACTION:DISPLAY
DESCRIPTION:Rassemblement des Glières - Forum des résistances
TRIGGER:-PT1H
END:VALARM
END:VEVENT
END:VCALENDAR
