BEGIN:VCALENDAR
VERSION:2.0
CALSCALE:GREGORIAN
PRODID:adamgibbons/ics
METHOD:PUBLISH
X-PUBLISHED-TTL:PT1H
BEGIN:VEVENT
UID:57@agenda.ebullition.org
SUMMARY:Saturday Knifever - LA MANO DE D1OS
DTSTAMP:20260424T155947Z
DTSTART:20260425T100000Z
DESCRIPTION:Un peu du talent de Gonzo\, un peu de la main de Dieu\n\n>>Menu
	 unique ( amuse-bouche / entrée / plat / dessert) - 30€\n\nOption végétari
	enne possible\; merci de le préciser lors de la réservation )
URL:https://agenda.ebullition.org/event/saturday-knifever-la-mano-de-d1os
LOCATION:Le bistro des tilleules - 13 Chem. de la Prairie\, 74000 Annecy
STATUS:CONFIRMED
CATEGORIES:Culture,Repas
X-ALT-DESC;FMTTYPE=text/html:<p>Un peu du talent de Gonzo, un peu de la mai
	n de Dieu</p><p>&gt;&gt;Menu unique ( amuse-bouche / entrée / plat / desse
	rt) - 30€  </p><p>Option végétarienne possible; merci de le préciser lors 
	de la réservation )</p>
BEGIN:VALARM
ACTION:DISPLAY
DESCRIPTION:Saturday Knifever - LA MANO DE D1OS
TRIGGER:-PT1H
END:VALARM
END:VEVENT
END:VCALENDAR
