BEGIN:VCALENDAR
VERSION:2.0
CALSCALE:GREGORIAN
PRODID:adamgibbons/ics
METHOD:PUBLISH
X-PUBLISHED-TTL:PT1H
BEGIN:VEVENT
UID:58@agenda.ebullition.org
SUMMARY:Thursday Forkin'Streat Food
DTSTAMP:20260424T160344Z
DTSTART:20260430T170000Z
DTEND:20260430T203000Z
DESCRIPTION:Tous les jeudis soir\, Gonzalo prend la main sur la cuisine ! I
	l vous propera une\ncarte renouvelée et improvisée chaque semaine selon se
	s envies et sur la base\nsuivante :\n\nNIGIRI . FRITES MAISON . MAC4N4CHEE
	SE . PANZANELLA . KATSU SANDWICH . BROCHETAS\n. DESSERT ...\n\nTarifs indi
	catifs : De 4\,5 à 10€
URL:https://agenda.ebullition.org/event/thursday-forkinstreat-food
LOCATION:Le bistro des tilleules - 13 Chem. de la Prairie\, 74000 Annecy
STATUS:CONFIRMED
CATEGORIES:Musique,Repas
X-ALT-DESC;FMTTYPE=text/html:<p>Tous les jeudis soir, Gonzalo prend la main
	 sur la cuisine ! Il vous propera une carte renouvelée et improvisée chaqu
	e semaine selon ses envies et sur la base suivante :</p><p>NIGIRI . FRITES
	 MAISON . MAC4N4CHEESE . PANZANELLA . KATSU SANDWICH . BROCHETAS . DESSERT
	 ...</p><p>Tarifs indicatifs : De 4,5 à 10€</p>
BEGIN:VALARM
ACTION:DISPLAY
DESCRIPTION:Thursday Forkin'Streat Food
TRIGGER:-PT1H
END:VALARM
END:VEVENT
END:VCALENDAR
