BEGIN:VCALENDAR
VERSION:2.0
CALSCALE:GREGORIAN
PRODID:adamgibbons/ics
METHOD:PUBLISH
X-PUBLISHED-TTL:PT1H
BEGIN:VEVENT
UID:51@agenda.ebullition.org
SUMMARY:Pecha Kucha
DTSTAMP:20260422T160754Z
DTSTART:20260511T163000Z
DTEND:20260511T193000Z
URL:https://agenda.ebullition.org/event/pecha-kucha-1
LOCATION:Parc des Haras - 11 Rue Guillaume Fichet\, 74000 Annecy
STATUS:CONFIRMED
CATEGORIES:
END:VEVENT
END:VCALENDAR
