BEGIN:VCALENDAR
VERSION:2.0
CALSCALE:GREGORIAN
PRODID:adamgibbons/ics
METHOD:PUBLISH
X-PUBLISHED-TTL:PT1H
BEGIN:VEVENT
UID:52@agenda.ebullition.org
SUMMARY:Pecha Kucha
DTSTAMP:20260422T174547Z
DTSTART:20260608T163000Z
DTEND:20260608T193000Z
URL:https://agenda.ebullition.org/event/pecha-kucha-2
LOCATION:Parc du Haras - 11 Rue Guillaume Fichet\, 74000 Annecy
STATUS:CONFIRMED
CATEGORIES:Culture,Intelligence collective,Vie associative,Ébullition,café 
	associatif,·L·A·C·
END:VEVENT
END:VCALENDAR
