BEGIN:VCALENDAR
VERSION:2.0
CALSCALE:GREGORIAN
PRODID:adamgibbons/ics
METHOD:PUBLISH
X-PUBLISHED-TTL:PT1H
BEGIN:VEVENT
UID:55@agenda.ebullition.org
SUMMARY:Friperie
DTSTAMP:20260424T125858Z
DTSTART:20260426T120000Z
DTEND:20260426T150000Z
URL:https://agenda.ebullition.org/event/friperie
LOCATION:Espace arc-en-ciel - 5 chemin du panorama
STATUS:CONFIRMED
CATEGORIES:
END:VEVENT
END:VCALENDAR
