BEGIN:VCALENDAR
VERSION:2.0
CALSCALE:GREGORIAN
PRODID:adamgibbons/ics
METHOD:PUBLISH
X-PUBLISHED-TTL:PT1H
BEGIN:VEVENT
UID:56@agenda.ebullition.org
SUMMARY:Conférence-Table ronde - Liens entre santé mentale et conduites add
	ictives
DTSTAMP:20260424T125118Z
DTSTART:20260427T160000Z
DTEND:20260427T180000Z
URL:https://agenda.ebullition.org/event/conference-table-ronde-liens-entre-
	sante-mentale-et-conduites-addictives
LOCATION:Météore - 27 route de Frangy\, 74960 Meythet
STATUS:CONFIRMED
CATEGORIES:conférence,Santé mentale,UNAFAM
END:VEVENT
END:VCALENDAR
